BEGIN:VCALENDAR
VERSION:2.0
PRODID:-//Plone.org//NONSGML plone.app.event//EN
X-WR-TIMEZONE:Europe/Madrid
BEGIN:VEVENT
SUMMARY:Repicada de Campanes per Santa Bàrbara
DTSTART;TZID=Europe/Madrid;VALUE=DATE-TIME:20251204T183000
DTEND;TZID=Europe/Madrid;VALUE=DATE-TIME:20251204T193000
DTSTAMP;VALUE=DATE-TIME:20260420T074524Z
UID:add4dc3a66fd0d3f407fa8878560c1f8
CREATED;VALUE=DATE-TIME:20251204T000000Z
CATEGORIES:Festa
LOCATION:Església Parroquial de Sant Andreu de Llavaneres
ORGANIZER:Campaners de Sant Andreu de Llavaneres
URL:https://ajllavaneres.cat/document.php?id=24402
END:VEVENT
END:VCALENDAR