BEGIN:VCALENDAR
VERSION:2.0
PRODID:-//Plone.org//NONSGML plone.app.event//EN
X-WR-TIMEZONE:Europe/Madrid
BEGIN:VEVENT
SUMMARY:13a Copa Maresme 3 Viles
DTSTART;TZID=Europe/Madrid;VALUE=DATE-TIME:20251206T090000
DTEND;TZID=Europe/Madrid;VALUE=DATE-TIME:20251206T100000
DTSTAMP;VALUE=DATE-TIME:20260420T155926Z
UID:16a3c65be9872ad8772cd310cc7f0a0c
CREATED;VALUE=DATE-TIME:20251206T000000Z
CATEGORIES:Esports
LOCATION:Pavelló Municipal d'Esports - Avinguda de Sant Andreu, 92
ORGANIZER:Club Bàsquet 3 Viles
URL:https://ajllavaneres.cat/document.php?id=24404
END:VEVENT
END:VCALENDAR