BEGIN:VCALENDAR
VERSION:2.0
PRODID:-//Plone.org//NONSGML plone.app.event//EN
X-WR-TIMEZONE:Europe/Madrid
BEGIN:VEVENT
SUMMARY:Portem el pessebre al Cim del Montalt
DTSTART;TZID=Europe/Madrid;VALUE=DATE-TIME:20251214T083000
DTEND;TZID=Europe/Madrid;VALUE=DATE-TIME:20251214T093000
DTSTAMP;VALUE=DATE-TIME:20260419T165414Z
UID:f152253939ba5d4cd4c3f642599551af
CREATED;VALUE=DATE-TIME:20251214T000000Z
CATEGORIES:Esports
LOCATION:Pati d'El Casal de Llavaneres - Avinguda de Catalunya, 56
ORGANIZER:Secció Esportiva del Casal de Llavaneres
COMMENT:Durada: 4 hores
DESCRIPTION:Des d'El Casal de Llavaneres
URL:https://ajllavaneres.cat/document.php?id=24408
END:VEVENT
END:VCALENDAR