BEGIN:VCALENDAR
VERSION:2.0
PRODID:-//Plone.org//NONSGML plone.app.event//EN
X-WR-TIMEZONE:Europe/Madrid
BEGIN:VEVENT
SUMMARY:19è Aplec de Sant Sebastià
DTSTART;TZID=Europe/Madrid;VALUE=DATE-TIME:20260118T110000
DTEND;TZID=Europe/Madrid;VALUE=DATE-TIME:20260118T120000
DTSTAMP;VALUE=DATE-TIME:20260420T045512Z
UID:ecd0f71bf48ad21396e6d39d98f19c7e
CREATED;VALUE=DATE-TIME:20260118T000000Z
CATEGORIES:Reunió
LOCATION:Ermita de Sant Sebastià - Pla de l'ermita de Sant Sebastià
ORGANIZER:Parròquia de Sant Andreu de Llavaneres
DESCRIPTION:NOTA | En cas de pluja, s'anul·larà la processó; però es mantindrà la missa a l'ermita.
URL:https://ajllavaneres.cat/document.php?id=24498
END:VEVENT
END:VCALENDAR