BEGIN:VCALENDAR
VERSION:2.0
PRODID:-//Plone.org//NONSGML plone.app.event//EN
X-WR-TIMEZONE:Europe/Madrid
BEGIN:VEVENT
SUMMARY:Futbolí gegant i circuit d'aventura
DTSTART;TZID=Europe/Madrid;VALUE=DATE-TIME:20260208T110000
DTEND;TZID=Europe/Madrid;VALUE=DATE-TIME:20260208T120000
DTSTAMP;VALUE=DATE-TIME:20260422T115916Z
UID:f82315a3943265262bf58a05461c9299
CREATED;VALUE=DATE-TIME:20260208T000000Z
CATEGORIES:Infantils
LOCATION:Parc de Sant Pere - Passeig de la Riera, s/n
ORGANIZER:Regidoria de Joventut
COMMENT:Preu: Gratuït
Durada: Fins a les 14 h
DESCRIPTION:El futbolí gegant és una activitat escollida pel Consell d'Infants
URL:https://ajllavaneres.cat/document.php?id=24660
END:VEVENT
END:VCALENDAR