BEGIN:VCALENDAR
VERSION:2.0
PRODID:-//Plone.org//NONSGML plone.app.event//EN
X-WR-TIMEZONE:Europe/Madrid
BEGIN:VEVENT
SUMMARY:Concert: 'La Passió segons Sant Mateu'
DTSTART;TZID=Europe/Madrid;VALUE=DATE-TIME:20260321T203000
DTEND;TZID=Europe/Madrid;VALUE=DATE-TIME:20260321T213000
DTSTAMP;VALUE=DATE-TIME:20260422T215011Z
UID:247728762ff7050abe2c1cee74e0f6d0
CREATED;VALUE=DATE-TIME:20260321T000000Z
CATEGORIES:Música
LOCATION:Església parroquial
ORGANIZER:Camerart-Orquestra del Maresme - Secció Cultura d'El Casal
COMMENT:Preu: 20 &euro;
Durada: 2 h
URL:https://ajllavaneres.cat/document.php?id=24745
END:VEVENT
END:VCALENDAR