BEGIN:VCALENDAR
VERSION:2.0
PRODID:-//Plone.org//NONSGML plone.app.event//EN
X-WR-TIMEZONE:Europe/Madrid
BEGIN:VEVENT
SUMMARY:Chopin al Museu
DTSTART;TZID=Europe/Madrid;VALUE=DATE-TIME:20260321T120000
DTEND;TZID=Europe/Madrid;VALUE=DATE-TIME:20260321T130000
DTSTAMP;VALUE=DATE-TIME:20260422T215423Z
UID:325821f9e4758e6cdc899fb5905843f8
CREATED;VALUE=DATE-TIME:20260321T000000Z
CATEGORIES:Exposició,Mostra,Música,Trobada,Agenda E.M.M.
LOCATION:Museu-Arxiu de Llavaneres. Can Caralt - Carretera de Sant Vicenç, 14
ORGANIZER:Museu-Arxiu i Escola Municipal de Música Llavaneres
COMMENT:Preu: Gratuït
Durada: 45 minuts
URL:https://ajllavaneres.cat/document.php?id=24830
END:VEVENT
END:VCALENDAR