BEGIN:VCALENDAR
VERSION:2.0
PRODID:-//Plone.org//NONSGML plone.app.event//EN
X-WR-TIMEZONE:Europe/Madrid
BEGIN:VEVENT
SUMMARY:Presentació del llibre: 'Una història teatral'
DTSTART;TZID=Europe/Madrid;VALUE=DATE-TIME:20260421T200000
DTEND;TZID=Europe/Madrid;VALUE=DATE-TIME:20260421T210000
DTSTAMP;VALUE=DATE-TIME:20260419T222739Z
UID:b1240713676f4ff38a5012bf5fa6cb6e
CREATED;VALUE=DATE-TIME:20260421T000000Z
CATEGORIES:Literatura
LOCATION:Església parroquial
ORGANIZER:Joan Devesa i Freginals
COMMENT:Preu: Entrada lliure
Durada: 1 hora
URL:https://ajllavaneres.cat/document.php?id=24986
END:VEVENT
END:VCALENDAR