BEGIN:VCALENDAR
VERSION:2.0
PRODID:-//Plone.org//NONSGML plone.app.event//EN
X-WR-TIMEZONE:Europe/Madrid
BEGIN:VEVENT
SUMMARY:Jornada de descoberta del 'Newcom'
DTSTART;TZID=Europe/Madrid;VALUE=DATE-TIME:20260424T100000
DTEND;TZID=Europe/Madrid;VALUE=DATE-TIME:20260424T110000
DTSTAMP;VALUE=DATE-TIME:20260419T185129Z
UID:967f04f599d44c2d4dbd09d9869fd6c8
CREATED;VALUE=DATE-TIME:20260424T000000Z
LOCATION:Parc de Ca l'Alfaro - Passeig de la Mare de Déu de Montserrat, 27-33
ORGANIZER:Regidoria d'Esports i Consell Esportiu del Maresme
COMMENT:Durada: Fins a les 12 h
URL:https://ajllavaneres.cat/document.php?id=25006
END:VEVENT
END:VCALENDAR