BEGIN:VCALENDAR
VERSION:2.0
PRODID:-//Plone.org//NONSGML plone.app.event//EN
X-WR-TIMEZONE:Europe/Madrid
BEGIN:VEVENT
SUMMARY:Conferència: 'Representacions de Déu de l'art cristià'
DTSTART;TZID=Europe/Madrid;VALUE=DATE-TIME:20260420T194500
DTEND;TZID=Europe/Madrid;VALUE=DATE-TIME:20260420T204500
DTSTAMP;VALUE=DATE-TIME:20260420T200517Z
UID:2bfd08a0511f303455647bdcbb189ede
CREATED;VALUE=DATE-TIME:20260420T000000Z
CATEGORIES:Conferència
LOCATION:Temple parroquial - Carrer de Munt
COMMENT:Preu: Entrada lliure
DESCRIPTION:A càrrec de Lluís Silva
URL:https://ajllavaneres.cat/document.php?id=25017
END:VEVENT
END:VCALENDAR