BEGIN:VCALENDAR
VERSION:2.0
PRODID:-//Plone.org//NONSGML plone.app.event//EN
X-WR-TIMEZONE:Europe/Madrid
BEGIN:VEVENT
SUMMARY:Sessió informativa del procés de regularització extraordinària
DTSTART;TZID=Europe/Madrid;VALUE=DATE-TIME:20260420T180000
DTEND;TZID=Europe/Madrid;VALUE=DATE-TIME:20260420T190000
DTSTAMP;VALUE=DATE-TIME:20260420T184707Z
UID:e0a4b26b4d01371030fefc733ff6af2a
CREATED;VALUE=DATE-TIME:20260420T000000Z
CATEGORIES:Conferència,Reunió
LOCATION:Sessió telemàtica
ORGANIZER:Consell Comarcal de Maresme
DESCRIPTION:Oberta a tota la ciutadania i amb format telemàtic
URL:https://ajllavaneres.cat/document.php?id=25031
END:VEVENT
END:VCALENDAR