BEGIN:VCALENDAR
VERSION:2.0
PRODID:-//Plone.org//NONSGML plone.app.event//EN
X-WR-TIMEZONE:Europe/Madrid
BEGIN:VEVENT
SUMMARY:3a Trobada de flautes travesseres
DTSTART;TZID=Europe/Madrid;VALUE=DATE-TIME:20260516T173000
DTEND;TZID=Europe/Madrid;VALUE=DATE-TIME:20260516T183000
DTSTAMP;VALUE=DATE-TIME:20260421T193545Z
UID:68eea573428e0a793dd21f0dadc10b8f
CREATED;VALUE=DATE-TIME:20260516T000000Z
CATEGORIES:Mostra,Festa,Música,Trobada,Agenda E.M.M.
LOCATION:Altre (ho explico més avall) - Avinguda de Ca n'Amat 51
ORGANIZER:Escola Municipal de Música Llavaneres
COMMENT:Preu: Gratuït
Durada: 1 hora
URL:https://ajllavaneres.cat/document.php?id=25045
END:VEVENT
END:VCALENDAR