BEGIN:VCALENDAR
VERSION:2.0
PRODID:-//Plone.org//NONSGML plone.app.event//EN
X-WR-TIMEZONE:Europe/Madrid
BEGIN:VEVENT
SUMMARY:Sortida de gegants a Caldes
DTSTART;TZID=Europe/Madrid;VALUE=DATE-TIME:20090905T170000
DTEND;TZID=Europe/Madrid;VALUE=DATE-TIME:20090905T180000
DTSTAMP;VALUE=DATE-TIME:20260419T171405Z
UID:f118ed8b0e44b72a13bb27c468219384
CREATED;VALUE=DATE-TIME:20090905T000000Z
CATEGORIES:Festa
LOCATION:El Casal de Llavaneres (sortida)
ORGANIZER:Secció de Tradicions i Festes Catalana del Casal de Llavaneres
URL:https://ajllavaneres.cat/document.php?id=2610
END:VEVENT
END:VCALENDAR