BEGIN:VCALENDAR
VERSION:2.0
PRODID:-//Plone.org//NONSGML plone.app.event//EN
X-WR-TIMEZONE:Europe/Madrid
BEGIN:VEVENT
SUMMARY:Quin Llavaneres volem?
DTSTART;TZID=Europe/Madrid;VALUE=DATE-TIME:20090916T200000
DTEND;TZID=Europe/Madrid;VALUE=DATE-TIME:20090916T210000
DTSTAMP;VALUE=DATE-TIME:20260419T171335Z
UID:226be50182f3442ea893d9508b3a6112
CREATED;VALUE=DATE-TIME:20090916T000000Z
LOCATION:Sala de plens de l'Ajuntament
ORGANIZER:Ajuntament de Llavaneres. Regidoria de Participació Ciutadana
COMMENT:Durada: Fins a les 22:00h
DESCRIPTION:Secció: Llavaneres Centre. Taules de treball: Promoció Econòmica, Cultura i Esports
URL:https://ajllavaneres.cat/document.php?id=2671
END:VEVENT
END:VCALENDAR