BEGIN:VCALENDAR
VERSION:2.0
PRODID:-//Plone.org//NONSGML plone.app.event//EN
X-WR-TIMEZONE:Europe/Madrid
BEGIN:VEVENT
SUMMARY:Sortida al cim de la Mola
DTSTART;TZID=Europe/Madrid;VALUE=DATE-TIME:20091025T070000
DTEND;TZID=Europe/Madrid;VALUE=DATE-TIME:20091025T080000
DTSTAMP;VALUE=DATE-TIME:20260420T004501Z
UID:5c74eef4ab08593738ddf3381d9803a4
CREATED;VALUE=DATE-TIME:20091025T000000Z
CATEGORIES:Esports
LOCATION:Passeig de Jaume Brutau, davant del CAP (sortida a les 7.00 h)
ORGANIZER:Secció Esportiva del Casal de Llavaneres
DESCRIPTION:Sant Llorenç del Munt (Vallès Occidental/ Bages)
URL:https://ajllavaneres.cat/document.php?id=2756
END:VEVENT
END:VCALENDAR