BEGIN:VCALENDAR
VERSION:2.0
PRODID:-//Plone.org//NONSGML plone.app.event//EN
X-WR-TIMEZONE:Europe/Madrid
BEGIN:VEVENT
SUMMARY:Espectacle infantil
DTSTART;TZID=Europe/Madrid;VALUE=DATE-TIME:20091108T180000
DTEND;TZID=Europe/Madrid;VALUE=DATE-TIME:20091108T190000
DTSTAMP;VALUE=DATE-TIME:20260420T100516Z
UID:1a98a5c39f8f49463210df9c78b027a6
CREATED;VALUE=DATE-TIME:20091108T000000Z
CATEGORIES:Infantils
LOCATION:Sala Gran d'El Casal de Llavaneres
ORGANIZER:La Xarxa d'Espectacle Infantil i Juvenil
COMMENT:Preu: 4 euros
DESCRIPTION:"Contencinc&CloseCurlyDoubleQuote;,  a càrrec de la cia. Anna Roca
URL:https://ajllavaneres.cat/document.php?id=2867
END:VEVENT
END:VCALENDAR