BEGIN:VCALENDAR
VERSION:2.0
PRODID:-//Plone.org//NONSGML plone.app.event//EN
X-WR-TIMEZONE:Europe/Madrid
BEGIN:VEVENT
SUMMARY:Boletada
DTSTART;TZID=Europe/Madrid;VALUE=DATE-TIME:20091115T080000
DTEND;TZID=Europe/Madrid;VALUE=DATE-TIME:20091115T090000
DTSTAMP;VALUE=DATE-TIME:20260419T154353Z
UID:52023faf152b957ae686ba573391a08c
CREATED;VALUE=DATE-TIME:20091115T000000Z
LOCATION:El Casal de Llavaneres (sortida)
ORGANIZER:Secció Esportiva d'El Casal de Llavaneres
COMMENT:Preu: Preu dinar: 8 euros socis / 10 euros no socis.
DESCRIPTION:Sortida a caçar bolets i posterior arrossada amb els bolets trobats
URL:https://ajllavaneres.cat/document.php?id=2871
END:VEVENT
END:VCALENDAR