BEGIN:VCALENDAR
VERSION:2.0
PRODID:-//Plone.org//NONSGML plone.app.event//EN
X-WR-TIMEZONE:Europe/Madrid
BEGIN:VEVENT
SUMMARY:"Òscar. Una maleta, dues maletes, tres maletes ..."
DTSTART;TZID=Europe/Madrid;VALUE=DATE-TIME:20070525T200000
DTEND;TZID=Europe/Madrid;VALUE=DATE-TIME:20070525T210000
DTSTAMP;VALUE=DATE-TIME:20260422T210031Z
UID:d53e98c0294b0ad2ebc67064d5850da6
CREATED;VALUE=DATE-TIME:20070525T000000Z
CATEGORIES:Teatre
LOCATION:Pg. Jaume Brutau (davant el CAP)
ORGANIZER:Regidoria de Cultura i Festes
COMMENT:Preu: 23&euro;
Durada: L'obra comença a les 22h
DESCRIPTION:Sortida al teatre
URL:https://ajllavaneres.cat/document.php?id=3
END:VEVENT
END:VCALENDAR