BEGIN:VCALENDAR
VERSION:2.0
PRODID:-//Plone.org//NONSGML plone.app.event//EN
X-WR-TIMEZONE:Europe/Madrid
BEGIN:VEVENT
SUMMARY:Reunió informativa adjudicataris dels pisos socials
DTSTART;TZID=Europe/Madrid;VALUE=DATE-TIME:20100115T140000
DTEND;TZID=Europe/Madrid;VALUE=DATE-TIME:20100115T150000
DTSTAMP;VALUE=DATE-TIME:20260420T114103Z
UID:f8921f76b126999637f3dd6d965f178b
CREATED;VALUE=DATE-TIME:20100115T000000Z
LOCATION:Sala de plens de l'Ajuntament
URL:https://ajllavaneres.cat/document.php?id=3077
END:VEVENT
END:VCALENDAR