BEGIN:VCALENDAR
VERSION:2.0
PRODID:-//Plone.org//NONSGML plone.app.event//EN
X-WR-TIMEZONE:Europe/Madrid
BEGIN:VEVENT
SUMMARY:Cercavila i ball de Carnestoltes
DTSTART;TZID=Europe/Madrid;VALUE=DATE-TIME:20100214T173000
DTEND;TZID=Europe/Madrid;VALUE=DATE-TIME:20100214T183000
DTSTAMP;VALUE=DATE-TIME:20260420T003740Z
UID:ae18a9503cb91a5f522d00ad48d302bc
CREATED;VALUE=DATE-TIME:20100214T000000Z
CATEGORIES:Festa,Música
LOCATION:El Casal de Llavaneres
ORGANIZER:El Casal de Llavaneres, amb la col·laboració de la Regidoria de Cultura i Festes
DESCRIPTION:Cercavila "Terrabastall" i espectacle "Quin sarau!", amb la companyia Xarop de Canya
URL:https://ajllavaneres.cat/document.php?id=3092
END:VEVENT
END:VCALENDAR