BEGIN:VCALENDAR
VERSION:2.0
PRODID:-//Plone.org//NONSGML plone.app.event//EN
X-WR-TIMEZONE:Europe/Madrid
BEGIN:VEVENT
SUMMARY:Audició d'òpera
DTSTART;TZID=Europe/Madrid;VALUE=DATE-TIME:20100321T173000
DTEND;TZID=Europe/Madrid;VALUE=DATE-TIME:20100321T183000
DTSTAMP;VALUE=DATE-TIME:20260421T114850Z
UID:a763a7402346d956f2a6a1b2fa7329a8
CREATED;VALUE=DATE-TIME:20100321T000000Z
CATEGORIES:Música
LOCATION:El Casal de Llavaneres
ORGANIZER:Secció de Cultura d'El Casal de Llavaneres
COMMENT:Preu: Col·laboració: 3 euros
DESCRIPTION:"La bohème", de Giacomo Pucini
URL:https://ajllavaneres.cat/document.php?id=3247
END:VEVENT
END:VCALENDAR