BEGIN:VCALENDAR
VERSION:2.0
PRODID:-//Plone.org//NONSGML plone.app.event//EN
X-WR-TIMEZONE:Europe/Madrid
BEGIN:VEVENT
SUMMARY:Cloenda dels Moments Musicals a les Escoles
DTSTART;TZID=Europe/Madrid;VALUE=DATE-TIME:20100606T103000
DTEND;TZID=Europe/Madrid;VALUE=DATE-TIME:20100606T113000
DTSTAMP;VALUE=DATE-TIME:20260420T053105Z
UID:732ff05cd586e8f3dd9b8d8dee481a11
CREATED;VALUE=DATE-TIME:20100606T000000Z
CATEGORIES:Música
LOCATION:Jardins de Can Caralt
URL:https://ajllavaneres.cat/document.php?id=3490
END:VEVENT
END:VCALENDAR