BEGIN:VCALENDAR
VERSION:2.0
PRODID:-//Plone.org//NONSGML plone.app.event//EN
X-WR-TIMEZONE:Europe/Madrid
BEGIN:VEVENT
SUMMARY:Cine-fòrum
DTSTART;TZID=Europe/Madrid;VALUE=DATE-TIME:20071124T180000
DTEND;TZID=Europe/Madrid;VALUE=DATE-TIME:20071124T190000
DTSTAMP;VALUE=DATE-TIME:20260420T091837Z
UID:acf47e9271c6973e67aecf63d07cfca0
CREATED;VALUE=DATE-TIME:20071124T000000Z
CATEGORIES:Cinema
LOCATION:Sala d'actes de la Biblioteca Municipal
ORGANIZER:l'Intercanviador de Llavaneres, amb la col·laboració de la Regidoria de Cultura
COMMENT:Preu: Aportació voluntària (amb la recaptació es comprarà un llibre o  llibres sobre el tema per a donar a la Biblioteca de Llavaneres)
DESCRIPTION:'An inconvenient truth'  (Al Gore, EUA, 2006)
URL:https://ajllavaneres.cat/document.php?id=352
END:VEVENT
END:VCALENDAR