BEGIN:VCALENDAR
VERSION:2.0
PRODID:-//Plone.org//NONSGML plone.app.event//EN
X-WR-TIMEZONE:Europe/Madrid
BEGIN:VEVENT
SUMMARY:La Boletada
DTSTART;TZID=Europe/Madrid;VALUE=DATE-TIME:20071104T080000
DTEND;TZID=Europe/Madrid;VALUE=DATE-TIME:20071104T090000
DTSTAMP;VALUE=DATE-TIME:20260419T212428Z
UID:f69f2ca373207100a19b261b160bbc5a
CREATED;VALUE=DATE-TIME:20071104T000000Z
CATEGORIES:Esports
LOCATION:Pati d'El Casal de Llavaneres
ORGANIZER:Secció Esportiva d'El Casal de Llavaneres
URL:https://ajllavaneres.cat/document.php?id=357
END:VEVENT
END:VCALENDAR