BEGIN:VCALENDAR
VERSION:2.0
PRODID:-//Plone.org//NONSGML plone.app.event//EN
X-WR-TIMEZONE:Europe/Madrid
BEGIN:VEVENT
SUMMARY:X Mostra de Teatre "Dani Tàpias&CloseCurlyDoubleQuote;
DTSTART;TZID=Europe/Madrid;VALUE=DATE-TIME:20071027T220000
DTEND;TZID=Europe/Madrid;VALUE=DATE-TIME:20071027T230000
DTSTAMP;VALUE=DATE-TIME:20260419T230514Z
UID:d6d1ab8d7af0a8ccc5c06ccfafdfd49f
CREATED;VALUE=DATE-TIME:20071027T000000Z
CATEGORIES:Teatre
LOCATION:Sala polivalent d'El Casal de Llavaneres
ORGANIZER:Secció de Teatre d'El Casal de Llavaneres
COMMENT:Preu: 3 euros
DESCRIPTION:Representació de l'obra Spot
URL:https://ajllavaneres.cat/document.php?id=358
END:VEVENT
END:VCALENDAR