BEGIN:VCALENDAR
VERSION:2.0
PRODID:-//Plone.org//NONSGML plone.app.event//EN
X-WR-TIMEZONE:Europe/Madrid
BEGIN:VEVENT
SUMMARY:XXXIV Aplec de la Sardana
DTSTART;TZID=Europe/Madrid;VALUE=DATE-TIME:20100703T210000
DTEND;TZID=Europe/Madrid;VALUE=DATE-TIME:20100703T220000
DTSTAMP;VALUE=DATE-TIME:20260419T164018Z
UID:41b2926ffb2c347dbcbf1a729259e5f8
CREATED;VALUE=DATE-TIME:20100703T000000Z
CATEGORIES:Festa,Música
LOCATION:Pati d'El Casal de Llavaneres
ORGANIZER:Secció de Cultura d'El Casal de Llavaneres
COMMENT:Preu: Entrada lliure
URL:https://ajllavaneres.cat/document.php?id=3585
END:VEVENT
END:VCALENDAR