BEGIN:VCALENDAR
VERSION:2.0
PRODID:-//Plone.org//NONSGML plone.app.event//EN
X-WR-TIMEZONE:Europe/Madrid
BEGIN:VEVENT
SUMMARY:Temporada de dansa a El Casal
DTSTART;TZID=Europe/Madrid;VALUE=DATE-TIME:20071014T180000
DTEND;TZID=Europe/Madrid;VALUE=DATE-TIME:20071014T190000
DTSTAMP;VALUE=DATE-TIME:20260419T163551Z
UID:b6869b20b551d13c7b7642f4c461863f
CREATED;VALUE=DATE-TIME:20071014T000000Z
CATEGORIES:Dansa
LOCATION:Sala de lectura i audiovisuals dEl Casal
ORGANIZER:El Casal de Llavaneres
COMMENT:Preu: Entrada gratuïta
DESCRIPTION:Copelia de Giuseppina Bozzacchi
URL:https://ajllavaneres.cat/document.php?id=359
END:VEVENT
END:VCALENDAR