BEGIN:VCALENDAR
VERSION:2.0
PRODID:-//Plone.org//NONSGML plone.app.event//EN
X-WR-TIMEZONE:Europe/Madrid
BEGIN:VEVENT
SUMMARY:Shiatsu
DTSTART;TZID=Europe/Madrid;VALUE=DATE-TIME:20100606T110000
DTEND;TZID=Europe/Madrid;VALUE=DATE-TIME:20100606T120000
DTSTAMP;VALUE=DATE-TIME:20260419T141658Z
UID:d4ad58d01e991497fe1c82484299972b
CREATED;VALUE=DATE-TIME:20100606T000000Z
LOCATION:Sala polivalent de Ca l'Alfaro
ORGANIZER:ROKPA
COMMENT:Preu: 12 &euro;
Durada: Fins a les 13.00 h
DESCRIPTION:Sessions de 25 minuts
URL:https://ajllavaneres.cat/document.php?id=3594
END:VEVENT
END:VCALENDAR