BEGIN:VCALENDAR
VERSION:2.0
PRODID:-//Plone.org//NONSGML plone.app.event//EN
X-WR-TIMEZONE:Europe/Madrid
BEGIN:VEVENT
SUMMARY:X Mostra de Teatre "Dani Tàpias&CloseCurlyDoubleQuote;
DTSTART;TZID=Europe/Madrid;VALUE=DATE-TIME:20071020T220000
DTEND;TZID=Europe/Madrid;VALUE=DATE-TIME:20071020T230000
DTSTAMP;VALUE=DATE-TIME:20260419T150656Z
UID:96ed9ed8bbb02ccfb4f61dbcb55dfcf0
CREATED;VALUE=DATE-TIME:20071020T000000Z
CATEGORIES:Teatre
LOCATION:Sala polivalent d'El Casal de Llavaneres
ORGANIZER:El Casal de Llavaneres
COMMENT:Preu: 3 euros
URL:https://ajllavaneres.cat/document.php?id=360
END:VEVENT
END:VCALENDAR