BEGIN:VCALENDAR
VERSION:2.0
PRODID:-//Plone.org//NONSGML plone.app.event//EN
X-WR-TIMEZONE:Europe/Madrid
BEGIN:VEVENT
SUMMARY:Degustació dolça
DTSTART;TZID=Europe/Madrid;VALUE=DATE-TIME:20100606T120000
DTEND;TZID=Europe/Madrid;VALUE=DATE-TIME:20100606T130000
DTSTAMP;VALUE=DATE-TIME:20260420T035850Z
UID:1adcca79bab079f19ae57860d49632ae
CREATED;VALUE=DATE-TIME:20100606T000000Z
LOCATION:Parc de Ca l'Alfaro
ORGANIZER:La Dona per la Dona
DESCRIPTION:De les melmelades Calada
URL:https://ajllavaneres.cat/document.php?id=3604
END:VEVENT
END:VCALENDAR