BEGIN:VCALENDAR
VERSION:2.0
PRODID:-//Plone.org//NONSGML plone.app.event//EN
X-WR-TIMEZONE:Europe/Madrid
BEGIN:VEVENT
SUMMARY:Unitat mòbil de donació de sang
DTSTART;TZID=Europe/Madrid;VALUE=DATE-TIME:20100606T100000
DTEND;TZID=Europe/Madrid;VALUE=DATE-TIME:20100606T110000
DTSTAMP;VALUE=DATE-TIME:20260419T235239Z
UID:042cf6484349c9c584a85984b4af5807
CREATED;VALUE=DATE-TIME:20100606T000000Z
LOCATION:Passeig de la Mare de Déu de Montserrat
COMMENT:Durada: Fins a les 14.00 h
URL:https://ajllavaneres.cat/document.php?id=3611
END:VEVENT
END:VCALENDAR