BEGIN:VCALENDAR
VERSION:2.0
PRODID:-//Plone.org//NONSGML plone.app.event//EN
X-WR-TIMEZONE:Europe/Madrid
BEGIN:VEVENT
SUMMARY:"Fes un tast pel món"
DTSTART;TZID=Europe/Madrid;VALUE=DATE-TIME:20100605T180000
DTEND;TZID=Europe/Madrid;VALUE=DATE-TIME:20100605T190000
DTSTAMP;VALUE=DATE-TIME:20260420T065733Z
UID:261b2a5bece63df08dc53db902ed8f8c
CREATED;VALUE=DATE-TIME:20100605T000000Z
LOCATION:Parc de Ca l'Alfaro
ORGANIZER:A càrrec dels alumnes dels cursos de català i castellà per a nouvinguts
URL:https://ajllavaneres.cat/document.php?id=3614
END:VEVENT
END:VCALENDAR