BEGIN:VCALENDAR
VERSION:2.0
PRODID:-//Plone.org//NONSGML plone.app.event//EN
X-WR-TIMEZONE:Europe/Madrid
BEGIN:VEVENT
SUMMARY:Taller "Vull ser patinador/a?"
DTSTART;TZID=Europe/Madrid;VALUE=DATE-TIME:20100605T100000
DTEND;TZID=Europe/Madrid;VALUE=DATE-TIME:20100605T110000
DTSTAMP;VALUE=DATE-TIME:20260420T042236Z
UID:1e161bbe797fac25432c881ca4dd224b
CREATED;VALUE=DATE-TIME:20100605T000000Z
LOCATION:Parc de Ca l'Alfaro
ORGANIZER:Club de Patinatge Artístic de Llavaneres
COMMENT:Durada: 6 de juny
URL:https://ajllavaneres.cat/document.php?id=3621
END:VEVENT
END:VCALENDAR