BEGIN:VCALENDAR
VERSION:2.0
PRODID:-//Plone.org//NONSGML plone.app.event//EN
X-WR-TIMEZONE:Europe/Madrid
BEGIN:VEVENT
SUMMARY:Ràpides d'escacs
DTSTART;TZID=Europe/Madrid;VALUE=DATE-TIME:20100605T100000
DTEND;TZID=Europe/Madrid;VALUE=DATE-TIME:20100605T110000
DTSTAMP;VALUE=DATE-TIME:20260420T070731Z
UID:1c974d0731bc2c08255fce217f0e5e43
CREATED;VALUE=DATE-TIME:20100605T000000Z
LOCATION:Parc de Ca l'Alfaro
ORGANIZER:El Casal de Llavaneres
COMMENT:Durada: Fns el 6 de juny
URL:https://ajllavaneres.cat/document.php?id=3624
END:VEVENT
END:VCALENDAR