BEGIN:VCALENDAR
VERSION:2.0
PRODID:-//Plone.org//NONSGML plone.app.event//EN
X-WR-TIMEZONE:Europe/Madrid
BEGIN:VEVENT
SUMMARY:Concert a benefici de les obres del temple parroquial
DTSTART;TZID=Europe/Madrid;VALUE=DATE-TIME:20071026T220000
DTEND;TZID=Europe/Madrid;VALUE=DATE-TIME:20071026T230000
DTSTAMP;VALUE=DATE-TIME:20260419T194241Z
UID:282b24dcccbfc746b883c697c129e552
CREATED;VALUE=DATE-TIME:20071026T000000Z
LOCATION:Església parroquial
ORGANIZER:Regidoria de Cultura i Secció de Cultura d'El Casal de Llavaneres, amb la col·laboració de la Parròquia de Sant Andreu de Llavaneres i Fundació Wil&Jo
COMMENT:Preu: 10 &euro;
DESCRIPTION:Amb Camerart, orquestra del Maresme
URL:https://ajllavaneres.cat/document.php?id=368
END:VEVENT
END:VCALENDAR