BEGIN:VCALENDAR
VERSION:2.0
PRODID:-//Plone.org//NONSGML plone.app.event//EN
X-WR-TIMEZONE:Europe/Madrid
BEGIN:VEVENT
SUMMARY:XlII Campionat pitch-and-putt de Festa Major
DTSTART;TZID=Europe/Madrid;VALUE=DATE-TIME:20100717T090000
DTEND;TZID=Europe/Madrid;VALUE=DATE-TIME:20100717T100000
DTSTAMP;VALUE=DATE-TIME:20260419T233810Z
UID:858a43c7d52d9a18e793d6ea56f0c68b
CREATED;VALUE=DATE-TIME:20100717T000000Z
LOCATION:Escola de Golf HCP 1
COMMENT:Preu: 20 &euro; adult / 15 &euro; infantil
DESCRIPTION:Sortida simultània
URL:https://ajllavaneres.cat/document.php?id=3685
END:VEVENT
END:VCALENDAR