BEGIN:VCALENDAR
VERSION:2.0
PRODID:-//Plone.org//NONSGML plone.app.event//EN
X-WR-TIMEZONE:Europe/Madrid
BEGIN:VEVENT
SUMMARY:Teatre per a escolars
DTSTART;TZID=Europe/Madrid;VALUE=DATE-TIME:20071025T090000
DTEND;TZID=Europe/Madrid;VALUE=DATE-TIME:20071025T100000
DTSTAMP;VALUE=DATE-TIME:20260419T200317Z
UID:aba34f6ecf178ca5e670e1f751e0523d
CREATED;VALUE=DATE-TIME:20071025T000000Z
CATEGORIES:Teatre
LOCATION:CEIP Sant Andreu i CEIP Serena Vall
ORGANIZER:Regidoria de Sanitat
COMMENT:Durada: 45 minuts
DESCRIPTION:Programa Pere Flaix Tele Salut
URL:https://ajllavaneres.cat/document.php?id=370
END:VEVENT
END:VCALENDAR