BEGIN:VCALENDAR
VERSION:2.0
PRODID:-//Plone.org//NONSGML plone.app.event//EN
X-WR-TIMEZONE:Europe/Madrid
BEGIN:VEVENT
SUMMARY:Espectacle infantil
DTSTART;TZID=Europe/Madrid;VALUE=DATE-TIME:20100719T190000
DTEND;TZID=Europe/Madrid;VALUE=DATE-TIME:20100719T200000
DTSTAMP;VALUE=DATE-TIME:20260420T033014Z
UID:d0564d45ff6a8799d5f6691d8f84310e
CREATED;VALUE=DATE-TIME:20100719T000000Z
LOCATION:Parc de Sant Pere
ORGANIZER:La Xarxa d´Espectacle Infantil i Juvenil
DESCRIPTION:"Revolució&CloseCurlyDoubleQuote;, amb la companyia Pentina el Gat
URL:https://ajllavaneres.cat/document.php?id=3707
END:VEVENT
END:VCALENDAR