BEGIN:VCALENDAR
VERSION:2.0
PRODID:-//Plone.org//NONSGML plone.app.event//EN
X-WR-TIMEZONE:Europe/Madrid
BEGIN:VEVENT
SUMMARY:Concert de gala amb l'Orquestra Maravella
DTSTART;TZID=Europe/Madrid;VALUE=DATE-TIME:20100719T190000
DTEND;TZID=Europe/Madrid;VALUE=DATE-TIME:20100719T200000
DTSTAMP;VALUE=DATE-TIME:20260420T055923Z
UID:98c44720c081055cc00bee149117dc66
CREATED;VALUE=DATE-TIME:20100719T000000Z
LOCATION:Parc de Ca l'Alfaro
URL:https://ajllavaneres.cat/document.php?id=3708
END:VEVENT
END:VCALENDAR