BEGIN:VCALENDAR
VERSION:2.0
PRODID:-//Plone.org//NONSGML plone.app.event//EN
X-WR-TIMEZONE:Europe/Madrid
BEGIN:VEVENT
SUMMARY:Exposició "Què pinta la SIDA?"
DTSTART;TZID=Europe/Madrid;VALUE=DATE-TIME:20071015T000000
DTEND;TZID=Europe/Madrid;VALUE=DATE-TIME:20071015T010000
DTSTAMP;VALUE=DATE-TIME:20260419T212328Z
UID:9f59ecf636cfd026684576d0207ef338
CREATED;VALUE=DATE-TIME:20071015T000000Z
CATEGORIES:Exposició
LOCATION:Sala d'actes de la Biblioteca Municipal
ORGANIZER:Regidoria de Sanitat
COMMENT:Durada: Fins el dia 30 d'octubre
URL:https://ajllavaneres.cat/document.php?id=371
END:VEVENT
END:VCALENDAR