BEGIN:VCALENDAR
VERSION:2.0
PRODID:-//Plone.org//NONSGML plone.app.event//EN
X-WR-TIMEZONE:Europe/Madrid
BEGIN:VEVENT
SUMMARY:Exposició fotogràfica
DTSTART;TZID=Europe/Madrid;VALUE=DATE-TIME:20100903T193000
DTEND;TZID=Europe/Madrid;VALUE=DATE-TIME:20100903T203000
DTSTAMP;VALUE=DATE-TIME:20260420T114044Z
UID:72fda87b800425c0a2743f5805f25d36
CREATED;VALUE=DATE-TIME:20100903T000000Z
CATEGORIES:Exposició
LOCATION:Museu-Arxiu de Llavaneres. Can Caralt
COMMENT:Durada: Fins el 26 de setembre
DESCRIPTION:"Objectiu infinit", fotografies d'Ignasi Canals
URL:https://ajllavaneres.cat/document.php?id=3746
END:VEVENT
END:VCALENDAR