BEGIN:VCALENDAR
VERSION:2.0
PRODID:-//Plone.org//NONSGML plone.app.event//EN
X-WR-TIMEZONE:Europe/Madrid
BEGIN:VEVENT
SUMMARY:Campanya de donació de sang
DTSTART;TZID=Europe/Madrid;VALUE=DATE-TIME:20071028T100000
DTEND;TZID=Europe/Madrid;VALUE=DATE-TIME:20071028T110000
DTSTAMP;VALUE=DATE-TIME:20260420T065112Z
UID:843d9a60e5041b08054a1f424b6214bb
CREATED;VALUE=DATE-TIME:20071028T000000Z
LOCATION:CAP Sant Andreu de Llavaneres
ORGANIZER:Banc de Sang i Teixits del departament de Salut de la Generalitat. Amb la col·laboració de la Regidoria de Salut de l'Ajuntament de Sant Andreu de Llavaneres
COMMENT:Durada: Fins a les 14.00 hores
URL:https://ajllavaneres.cat/document.php?id=378
END:VEVENT
END:VCALENDAR