BEGIN:VCALENDAR
VERSION:2.0
PRODID:-//Plone.org//NONSGML plone.app.event//EN
X-WR-TIMEZONE:Europe/Madrid
BEGIN:VEVENT
SUMMARY:Conferència: "Immigració, percepcions ciutadanes i discurs racista"
DTSTART;TZID=Europe/Madrid;VALUE=DATE-TIME:20071025T190000
DTEND;TZID=Europe/Madrid;VALUE=DATE-TIME:20071025T200000
DTSTAMP;VALUE=DATE-TIME:20260419T230706Z
UID:49f55927b78d9cdc764c2d76b9496685
CREATED;VALUE=DATE-TIME:20071025T000000Z
CATEGORIES:Conferència
LOCATION:Sala d'actes de la Biblioteca Municipal
ORGANIZER:Biblioteca Municipal i Regidoria de Cultura
DESCRIPTION:Amb Remei Sipi, vicepresidenta de la Federació de Col·lectius d'Immigrants de Catalunya
URL:https://ajllavaneres.cat/document.php?id=380
END:VEVENT
END:VCALENDAR