BEGIN:VCALENDAR
VERSION:2.0
PRODID:-//Plone.org//NONSGML plone.app.event//EN
X-WR-TIMEZONE:Europe/Madrid
BEGIN:VEVENT
SUMMARY:Conferència per a adults
DTSTART;TZID=Europe/Madrid;VALUE=DATE-TIME:20101202T190000
DTEND;TZID=Europe/Madrid;VALUE=DATE-TIME:20101202T200000
DTSTAMP;VALUE=DATE-TIME:20260420T075107Z
UID:9f95d455e4642a69ce3ade49faeb6eba
CREATED;VALUE=DATE-TIME:20101202T000000Z
CATEGORIES:Conferència
LOCATION:Sala d'actes de la Biblioteca Municipal
ORGANIZER:Biblioteca Municipal ; Regidoria de Cultura
DESCRIPTION:"Coneixement lliure a Internet: aprendre a col·laborar i compartir continguts en xarxa", a càrrec d'Oriol Ferran
URL:https://ajllavaneres.cat/document.php?id=3877
END:VEVENT
END:VCALENDAR