BEGIN:VCALENDAR
VERSION:2.0
PRODID:-//Plone.org//NONSGML plone.app.event//EN
X-WR-TIMEZONE:Europe/Madrid
BEGIN:VEVENT
SUMMARY:Exposició de dibuixos, contes i narracions
DTSTART;TZID=Europe/Madrid;VALUE=DATE-TIME:20071119T000000
DTEND;TZID=Europe/Madrid;VALUE=DATE-TIME:20071119T010000
DTSTAMP;VALUE=DATE-TIME:20260420T061608Z
UID:c29da8baa409f4b56eacfe51b7e77b49
CREATED;VALUE=DATE-TIME:20071119T000000Z
CATEGORIES:Exposició
LOCATION:CEIP Sant Andreu i CEIP Serena Vall
ORGANIZER:Regidoria de Benestar Social, amb el suport de la Regidoria d'Educació. Hi col·labora la Diputació de Barcelona
COMMENT:Durada: Fins el 25 de novembre
DESCRIPTION:Sota el lema Un món sense violència
URL:https://ajllavaneres.cat/document.php?id=388
END:VEVENT
END:VCALENDAR