BEGIN:VCALENDAR
VERSION:2.0
PRODID:-//Plone.org//NONSGML plone.app.event//EN
X-WR-TIMEZONE:Europe/Madrid
BEGIN:VEVENT
SUMMARY:Visita a Perpinyà (el Rosselló)
DTSTART;TZID=Europe/Madrid;VALUE=DATE-TIME:20100905T080000
DTEND;TZID=Europe/Madrid;VALUE=DATE-TIME:20100905T090000
DTSTAMP;VALUE=DATE-TIME:20260422T010904Z
UID:782fcef823c8bbcf9af6f195225ab3a1
CREATED;VALUE=DATE-TIME:20100905T000000Z
CATEGORIES:Esports
LOCATION:Perpinya
ORGANIZER:Secció Esportiva d'El Casal de Llavaneres
URL:https://ajllavaneres.cat/document.php?id=3882
END:VEVENT
END:VCALENDAR