BEGIN:VCALENDAR
VERSION:2.0
PRODID:-//Plone.org//NONSGML plone.app.event//EN
X-WR-TIMEZONE:Europe/Madrid
BEGIN:VEVENT
SUMMARY:Exposició de fotografies
DTSTART;TZID=Europe/Madrid;VALUE=DATE-TIME:20071031T193000
DTEND;TZID=Europe/Madrid;VALUE=DATE-TIME:20071031T203000
DTSTAMP;VALUE=DATE-TIME:20260420T004058Z
UID:c3198a2ce299e33add0af209dff3b9c1
CREATED;VALUE=DATE-TIME:20071031T000000Z
CATEGORIES:Exposició
LOCATION:Museu-Arxiu de Llavaneres. Can Caralt
ORGANIZER:Museu-Arxiu de Llavaneres
COMMENT:Durada: Fins el 25 de novembre
DESCRIPTION:De Rafael Calopa
URL:https://ajllavaneres.cat/document.php?id=390
END:VEVENT
END:VCALENDAR