BEGIN:VCALENDAR
VERSION:2.0
PRODID:-//Plone.org//NONSGML plone.app.event//EN
X-WR-TIMEZONE:Europe/Madrid
BEGIN:VEVENT
SUMMARY:Arts marcials
DTSTART;TZID=Europe/Madrid;VALUE=DATE-TIME:20071125T103000
DTEND;TZID=Europe/Madrid;VALUE=DATE-TIME:20071125T113000
DTSTAMP;VALUE=DATE-TIME:20260419T163210Z
UID:c2a84e33099d88b3f68d2cf846a21b67
CREATED;VALUE=DATE-TIME:20071125T000000Z
CATEGORIES:Esports
LOCATION:Pavelló municipal
ORGANIZER:Taekwondo Venzalà
DESCRIPTION:Exhibició de Taekhwondo i Hapkido
URL:https://ajllavaneres.cat/document.php?id=408
END:VEVENT
END:VCALENDAR