BEGIN:VCALENDAR
VERSION:2.0
PRODID:-//Plone.org//NONSGML plone.app.event//EN
X-WR-TIMEZONE:Europe/Madrid
BEGIN:VEVENT
SUMMARY:La cultura dels Toraja, fotografies de Joan Condal
DTSTART;TZID=Europe/Madrid;VALUE=DATE-TIME:20110114T000000
DTEND;TZID=Europe/Madrid;VALUE=DATE-TIME:20110114T010000
DTSTAMP;VALUE=DATE-TIME:20260419T215848Z
UID:b83f177ba9505118127b61182e85d6ca
CREATED;VALUE=DATE-TIME:20110114T000000Z
CATEGORIES:Mostra
LOCATION:Museu-Arxiu de Llavaneres. Can Caralt
COMMENT:Durada: Fins el 13 de febrer.
DESCRIPTION:Exposició fotogràfica
URL:https://ajllavaneres.cat/document.php?id=4174
END:VEVENT
END:VCALENDAR