BEGIN:VCALENDAR
VERSION:2.0
PRODID:-//Plone.org//NONSGML plone.app.event//EN
X-WR-TIMEZONE:Europe/Madrid
BEGIN:VEVENT
SUMMARY:Xocolatada i ball
DTSTART;TZID=Europe/Madrid;VALUE=DATE-TIME:20071201T180000
DTEND;TZID=Europe/Madrid;VALUE=DATE-TIME:20071201T190000
DTSTAMP;VALUE=DATE-TIME:20260420T040038Z
UID:371659ad22a70ee9151e6d86ecea8eed
CREATED;VALUE=DATE-TIME:20071201T000000Z
CATEGORIES:Festa
LOCATION:Casal de la Gent Gran
DESCRIPTION:Amb el grup Argemins
URL:https://ajllavaneres.cat/document.php?id=420
END:VEVENT
END:VCALENDAR